BEGIN:VCALENDAR
VERSION:2.0
PRODID:-//ChamberMaster//Event Calendar 2.0//EN
METHOD:PUBLISH
X-PUBLISHED-TTL:P1H
REFRESH-INTERVAL:P1H
CALSCALE:GREGORIAN
BEGIN:VTIMEZONE
TZID:America/Los_Angeles
BEGIN:DAYLIGHT
RRULE:FREQ=YEARLY;BYMONTH=3;BYDAY=2SU
DTSTART:20070101T000000
TZOFFSETFROM:-0800
TZOFFSETTO:-0700
TZNAME:Pacific Daylight Time
END:DAYLIGHT
BEGIN:STANDARD
RRULE:FREQ=YEARLY;BYMONTH=11;BYDAY=1SU
DTSTART:20070101T000000
TZOFFSETFROM:-0700
TZOFFSETTO:-0800
TZNAME:Pacific Standard Time
END:STANDARD
END:VTIMEZONE
BEGIN:VEVENT
DTSTART;TZID=America/Los_Angeles:20260421T130054
DTEND;TZID=America/Los_Angeles:20260421T150000
X-MICROSOFT-CDO-ALLDAYEVENT:FALSE
SUMMARY:CE - Law and Rule Required Course (LARRC) Zoom
DESCRIPTION:All real estate licensees must complete LARRC to meet the requirement to take a 2-hour continuing education course on recent changes in real estate rule and law found in ORS696.174. This course covers the basic rules of statutory interpretation\, real estate license\, property management license\, and disclosures. Register Online Click Here for Details and to Register This course is offered through OAR on Zoom
X-ALT-DESC;FMTTYPE=text/html:<!DOCTYPE html><html><head><title></title></head><body aria-disabled="false"><p>All real estate licensees must complete LARRC to meet the requirement to take a 2-hour continuing education course on recent changes in real estate rule and law found in ORS696.174. This course covers the basic rules of statutory interpretation\, real estate license\, property management license\, and disclosures. Register Online&nbsp\;</p><p><a fr-original-style="" href="https://oregonportal.ramcoams.net/Education/Registration/Details.aspx?cid=6f2f1ff5-39c6-f011-9ce6-00155d100644&id=3d846b7f-980b-4cc2-839d-be5da48d5223" rel="noopener noreferrer" style="user-select: auto\;" target="_blank">Click Here for Details and to Register </a></p><p>This course is offered through OAR on Zoom</p></body></html>
LOCATION:
UID:e.3611.1442765
SEQUENCE:3
DTSTAMP:20260423T015044Z
URL:https://members.clatsoprealtors.org/event-calendar/Details/ce-law-and-rule-required-course-larrc-zoom-1708884?sourceTypeId=Hub
END:VEVENT
END:VCALENDAR
