BEGIN:VCALENDAR
VERSION:2.0
PRODID:-//ChamberMaster//Event Calendar 2.0//EN
METHOD:PUBLISH
X-PUBLISHED-TTL:P1H
REFRESH-INTERVAL:P1H
CALSCALE:GREGORIAN
BEGIN:VTIMEZONE
TZID:America/Los_Angeles
BEGIN:DAYLIGHT
RRULE:FREQ=YEARLY;BYMONTH=3;BYDAY=2SU
DTSTART:20070101T000000
TZOFFSETFROM:-0800
TZOFFSETTO:-0700
TZNAME:Pacific Daylight Time
END:DAYLIGHT
BEGIN:STANDARD
RRULE:FREQ=YEARLY;BYMONTH=11;BYDAY=1SU
DTSTART:20070101T000000
TZOFFSETFROM:-0700
TZOFFSETTO:-0800
TZNAME:Pacific Standard Time
END:STANDARD
END:VTIMEZONE
BEGIN:VEVENT
DTSTART;TZID=America/Los_Angeles:20260625T090000
DTEND;TZID=America/Los_Angeles:20260625T120000
X-MICROSOFT-CDO-ALLDAYEVENT:FALSE
SUMMARY:CE - Code of Ethics Zoom
DESCRIPTION:Thursday\, June 25\, 2026 9:00am - 12pm OAR Zoom 3 Credits Join us on June 25th for the NAR REALTOR  Code of Ethics workshop with LaTasha Beal. This session will cover the following topics: -Heightening awareness of the key tenets of the Code of Ethics -Understanding the important role the Code should play in our professional lives -Enhancing professionalism and competency -Encouraging REALTORS  to see their Code of Ethics as a living\, practical guide for daily interactions with clients\, customers\, and the public. Click Here for Details and to Register
X-ALT-DESC;FMTTYPE=text/html:<!DOCTYPE html><html><head><title></title></head><body aria-disabled="false"><p>Thursday\, June 25\, 2026 9:00am - 12pm OAR Zoom 3 Credits Join us on June 25th for the NAR REALTOR&reg\; Code of Ethics workshop with LaTasha Beal. This session will cover the following topics: -Heightening awareness of the key tenets of the Code of Ethics -Understanding the important role the Code should play in our professional lives -Enhancing professionalism and competency -Encouraging REALTORS&reg\; to see their Code of Ethics as a living\, practical guide for daily interactions with clients\, customers\, and the public.&nbsp\;</p><p><a fr-original-style="" href="https://oregonportal.ramcoams.net/Education/Registration/Details.aspx?cid=6d01d6d4-3bc6-f011-9ce6-00155d100644" rel="noopener noreferrer" style="user-select: auto\;" target="_blank">Click Here for Details and to Register </a></p></body></html>
LOCATION:
UID:e.3611.1442773
SEQUENCE:3
DTSTAMP:20260423T015549Z
URL:https://members.clatsoprealtors.org/event-calendar/Details/ce-code-of-ethics-zoom-1708892?sourceTypeId=Hub
END:VEVENT
END:VCALENDAR
