BEGIN:VCALENDAR
VERSION:2.0
PRODID:-//ChamberMaster//Event Calendar 2.0//EN
METHOD:PUBLISH
X-PUBLISHED-TTL:P1H
REFRESH-INTERVAL:P1H
CALSCALE:GREGORIAN
BEGIN:VTIMEZONE
TZID:America/Los_Angeles
BEGIN:DAYLIGHT
RRULE:FREQ=YEARLY;BYMONTH=3;BYDAY=2SU
DTSTART:20070101T000000
TZOFFSETFROM:-0800
TZOFFSETTO:-0700
TZNAME:Pacific Daylight Time
END:DAYLIGHT
BEGIN:STANDARD
RRULE:FREQ=YEARLY;BYMONTH=11;BYDAY=1SU
DTSTART:20070101T000000
TZOFFSETFROM:-0700
TZOFFSETTO:-0800
TZNAME:Pacific Standard Time
END:STANDARD
END:VTIMEZONE
BEGIN:VEVENT
DTSTART;TZID=America/Los_Angeles:20260430T090000
DTEND;TZID=America/Los_Angeles:20260430T120000
X-MICROSOFT-CDO-ALLDAYEVENT:FALSE
SUMMARY:CE - 2026 Fair Housing Summit ZOOM
DESCRIPTION:Thursday\, April 30\, 2026 (9:00 AM to 12:00 PM) 3 Education Credits Join Oregon REALTORS   and the Oregon Mortgage Bankers Association to deep dive into the history of fair housing\, how fair housing impacts your business\, and how you can support fair housing in your community. Hear from Richard Rothstein - author of the Color of Law\, Fair Housing Council of Oregon\, NAR\, and Oregonians working to end the homeownership gaps. Click Here for Details and to Register
X-ALT-DESC;FMTTYPE=text/html:<!DOCTYPE html><html><head><title></title></head><body aria-disabled="false"><p>Thursday\, April 30\, 2026 (9:00 AM to 12:00 PM) 3 Education Credits Join Oregon REALTORS&Acirc\;&reg\; and the Oregon Mortgage Bankers Association to deep dive into the history of fair housing\, how fair housing impacts your business\, and how you can support fair housing in your community. Hear from Richard Rothstein - author of the Color of Law\, Fair Housing Council of Oregon\, NAR\, and Oregonians working to end the homeownership gaps.&nbsp\;</p><p><a fr-original-style="" href="https://oregonportal.ramcoams.net/Education/Registration/Details.aspx?cid=361de998-de11-f111-9cf5-00155d100643" rel="noopener noreferrer" style="user-select: auto\;" target="_blank">Click Here for Details and to Register </a></p></body></html>
LOCATION:
UID:e.3611.1442783
SEQUENCE:3
DTSTAMP:20260423T013433Z
URL:https://members.clatsoprealtors.org/event-calendar/Details/ce-2026-fair-housing-summit-zoom-1708902?sourceTypeId=Hub
END:VEVENT
END:VCALENDAR
